BEGIN:VCALENDAR
VERSION:2.0
PRODID:-//TYPO3/NONSGML Calendarize//EN
BEGIN:VEVENT
UID:calendarize-6293
DTSTAMP:20251230T153432Z
DTSTART:20261128T180000Z
DTEND:20261127T230000Z
SUMMARY:Weihnachtsfeier
DESCRIPTION:
LOCATION:Schützenheim
END:VEVENT
END:VCALENDAR
