BEGIN:VCALENDAR
VERSION:2.0
PRODID:-//TYPO3/NONSGML Calendarize//EN
BEGIN:VEVENT
UID:calendarize-6294
DTSTAMP:20251230T153518Z
DTSTART;VALUE=DATE:20261205
DTEND;VALUE=DATE:20261206
SUMMARY:Nikolausfeier
DESCRIPTION:
LOCATION:Feuerwehrhaus in Wolfsbach
END:VEVENT
END:VCALENDAR
